Package: GEM Version: 1.33.0 Command: rm -rf GEM.buildbin-libdir && mkdir GEM.buildbin-libdir && /Users/biocbuild/BBS/utils/build-universal.sh GEM_1.33.0.tar.gz /Library/Frameworks/R.framework/Resources/bin/R GEM.buildbin-libdir StartedAt: 2025-02-09 22:15:15 -0500 (Sun, 09 Feb 2025) EndedAt: 2025-02-09 22:15:22 -0500 (Sun, 09 Feb 2025) EllapsedTime: 7.1 seconds RetCode: 0 Status: OK PackageFile: GEM_1.33.0.tgz PackageFileSize: 897 KiB