Package: GENIE3 Version: 1.29.0 Command: /Library/Frameworks/R.framework/Resources/bin/R CMD build --keep-empty-dirs --no-resave-data GENIE3 StartedAt: 2025-02-09 16:24:40 -0500 (Sun, 09 Feb 2025) EndedAt: 2025-02-09 16:24:44 -0500 (Sun, 09 Feb 2025) EllapsedTime: 4.1 seconds RetCode: 0 Status: OK PackageFile: GENIE3_1.29.0.tar.gz PackageFileSize: 241.4 KiB