Package: GENIE3 Version: 1.29.0 Command: /home/biocbuild/R/R/bin/R CMD build --keep-empty-dirs --no-resave-data GENIE3 StartedAt: 2025-01-28 23:05:52 -0000 (Tue, 28 Jan 2025) EndedAt: 2025-01-28 23:06:02 -0000 (Tue, 28 Jan 2025) EllapsedTime: 10.0 seconds RetCode: 0 Status: OK PackageFile: GENIE3_1.29.0.tar.gz PackageFileSize: 266.4 KiB