Package: GENIE3 Version: 1.29.0 Command: /Library/Frameworks/R.framework/Resources/bin/R CMD build --keep-empty-dirs --no-resave-data GENIE3 StartedAt: 2025-02-12 16:49:13 -0500 (Wed, 12 Feb 2025) EndedAt: 2025-02-12 16:49:24 -0500 (Wed, 12 Feb 2025) EllapsedTime: 11.4 seconds RetCode: 0 Status: OK PackageFile: GENIE3_1.29.0.tar.gz PackageFileSize: 241.4 KiB