Package: GENIE3 Version: 1.29.0 Command: /Library/Frameworks/R.framework/Resources/bin/R CMD check --install=check:GENIE3.install-out.txt --library=/Library/Frameworks/R.framework/Resources/library --no-vignettes --timings GENIE3_1.29.0.tar.gz StartedAt: 2025-02-09 20:54:22 -0500 (Sun, 09 Feb 2025) EndedAt: 2025-02-09 20:55:25 -0500 (Sun, 09 Feb 2025) EllapsedTime: 63.3 seconds RetCode: 0 Status: OK CheckDir: GENIE3.Rcheck Warnings: 0