Package: GENIE3 Version: 1.29.0 Command: /home/biocbuild/bbs-3.21-bioc/R/bin/R CMD INSTALL GENIE3 StartedAt: 2025-02-09 15:09:07 -0500 (Sun, 09 Feb 2025) EndedAt: 2025-02-09 15:09:20 -0500 (Sun, 09 Feb 2025) EllapsedTime: 12.8 seconds RetCode: 0 Status: OK