Package: GENIE3 Version: 1.29.0 Command: rm -rf GENIE3.buildbin-libdir && mkdir GENIE3.buildbin-libdir && E:\biocbuild\bbs-3.21-bioc\R\bin\R.exe CMD INSTALL --build --library=GENIE3.buildbin-libdir GENIE3_1.29.0.tar.gz StartedAt: 2025-02-10 07:48:52 -0500 (Mon, 10 Feb 2025) EndedAt: 2025-02-10 07:49:04 -0500 (Mon, 10 Feb 2025) EllapsedTime: 11.9 seconds RetCode: 0 Status: OK PackageFile: GENIE3_1.29.0.zip PackageFileSize: 267.5 KiB