Package: GENIE3 Version: 1.29.0 Command: chmod a+r GENIE3 -R && E:\biocbuild\bbs-3.21-bioc\R\bin\R.exe CMD build --keep-empty-dirs --no-resave-data GENIE3 StartedAt: 2025-02-09 18:52:53 -0500 (Sun, 09 Feb 2025) EndedAt: 2025-02-09 18:53:10 -0500 (Sun, 09 Feb 2025) EllapsedTime: 17.0 seconds RetCode: 0 Status: OK PackageFile: GENIE3_1.29.0.tar.gz PackageFileSize: 241.5 KiB