Package: GEOmetadb Version: 1.69.2 Command: /Library/Frameworks/R.framework/Resources/bin/R CMD INSTALL GEOmetadb StartedAt: 2025-02-09 15:13:01 -0500 (Sun, 09 Feb 2025) EndedAt: 2025-02-09 15:13:08 -0500 (Sun, 09 Feb 2025) EllapsedTime: 6.5 seconds RetCode: 0 Status: OK