Package: GEOmetadb Version: 1.69.2 Command: /home/biocbuild/bbs-3.21-bioc/R/bin/R CMD build --keep-empty-dirs --no-resave-data GEOmetadb StartedAt: 2025-02-09 17:24:04 -0500 (Sun, 09 Feb 2025) EndedAt: 2025-02-09 17:24:23 -0500 (Sun, 09 Feb 2025) EllapsedTime: 19.0 seconds RetCode: 0 Status: OK PackageFile: GEOmetadb_1.69.2.tar.gz PackageFileSize: 640.6 KiB