Package: GEOmetadb Version: 1.69.2 Command: /home/biocbuild/bbs-3.21-bioc/R/bin/R CMD check --install=check:GEOmetadb.install-out.txt --library=/home/biocbuild/bbs-3.21-bioc/R/site-library --timings GEOmetadb_1.69.2.tar.gz StartedAt: 2025-02-09 22:41:41 -0500 (Sun, 09 Feb 2025) EndedAt: 2025-02-09 22:42:22 -0500 (Sun, 09 Feb 2025) EllapsedTime: 41.0 seconds RetCode: 0 Status: WARNINGS CheckDir: GEOmetadb.Rcheck Warnings: 1