Package: GEOmetadb Version: 1.69.2 Command: rm -rf GEOmetadb.buildbin-libdir && mkdir GEOmetadb.buildbin-libdir && E:\biocbuild\bbs-3.21-bioc\R\bin\R.exe CMD INSTALL --build --library=GEOmetadb.buildbin-libdir GEOmetadb_1.69.2.tar.gz StartedAt: 2025-02-10 07:50:19 -0500 (Mon, 10 Feb 2025) EndedAt: 2025-02-10 07:50:30 -0500 (Mon, 10 Feb 2025) EllapsedTime: 11.1 seconds RetCode: 0 Status: OK PackageFile: GEOmetadb_1.69.2.zip PackageFileSize: 401.3 KiB