Package: GEOsubmission Version: 1.59.0 Command: /Library/Frameworks/R.framework/Resources/bin/R CMD build --keep-empty-dirs --no-resave-data GEOsubmission StartedAt: 2025-02-03 17:03:30 -0500 (Mon, 03 Feb 2025) EndedAt: 2025-02-03 17:03:35 -0500 (Mon, 03 Feb 2025) EllapsedTime: 5.1 seconds RetCode: 0 Status: OK PackageFile: GEOsubmission_1.59.0.tar.gz PackageFileSize: 192.2 KiB