Package: GEOsubmission Version: 1.59.0 Command: /Library/Frameworks/R.framework/Resources/bin/R CMD check --install=check:GEOsubmission.install-out.txt --library=/Library/Frameworks/R.framework/Resources/library --no-vignettes --timings GEOsubmission_1.59.0.tar.gz StartedAt: 2025-02-09 19:26:07 -0500 (Sun, 09 Feb 2025) EndedAt: 2025-02-09 19:26:20 -0500 (Sun, 09 Feb 2025) EllapsedTime: 13.2 seconds RetCode: 0 Status: OK CheckDir: GEOsubmission.Rcheck Warnings: 0