Package: GEOsubmission Version: 1.59.0 Command: /home/biocbuild/R/R/bin/R CMD build --keep-empty-dirs --no-resave-data GEOsubmission StartedAt: 2025-01-28 23:10:21 -0000 (Tue, 28 Jan 2025) EndedAt: 2025-01-28 23:10:29 -0000 (Tue, 28 Jan 2025) EllapsedTime: 8.0 seconds RetCode: 0 Status: OK PackageFile: GEOsubmission_1.59.0.tar.gz PackageFileSize: 186.2 KiB