Package: GEOsubmission Version: 1.59.0 Command: /home/biocbuild/R/R/bin/R CMD INSTALL GEOsubmission StartedAt: 2025-01-29 19:32:52 -0000 (Wed, 29 Jan 2025) EndedAt: 2025-01-29 19:33:05 -0000 (Wed, 29 Jan 2025) EllapsedTime: 12.3 seconds RetCode: 0 Status: OK