Package: GEOsubmission Version: 1.59.0 Command: rm -rf GEOsubmission.buildbin-libdir && mkdir GEOsubmission.buildbin-libdir && /Users/biocbuild/BBS/utils/build-universal.sh GEOsubmission_1.59.0.tar.gz /Library/Frameworks/R.framework/Resources/bin/R GEOsubmission.buildbin-libdir StartedAt: 2025-02-10 00:55:30 -0500 (Mon, 10 Feb 2025) EndedAt: 2025-02-10 00:55:37 -0500 (Mon, 10 Feb 2025) EllapsedTime: 6.9 seconds RetCode: 0 Status: OK PackageFile: GEOsubmission_1.59.0.tgz PackageFileSize: 208.8 KiB