Package: GEOsubmission Version: 1.59.0 Command: /home/biocbuild/bbs-3.21-bioc/R/bin/R CMD check --install=check:GEOsubmission.install-out.txt --library=/home/biocbuild/bbs-3.21-bioc/R/site-library --timings GEOsubmission_1.59.0.tar.gz StartedAt: 2025-02-09 22:42:48 -0500 (Sun, 09 Feb 2025) EndedAt: 2025-02-09 22:43:19 -0500 (Sun, 09 Feb 2025) EllapsedTime: 31.0 seconds RetCode: 0 Status: OK CheckDir: GEOsubmission.Rcheck Warnings: 0