Package: GEOsubmission Version: 1.59.0 Command: /home/biocbuild/bbs-3.21-bioc/R/bin/R CMD INSTALL GEOsubmission StartedAt: 2025-02-03 15:21:42 -0500 (Mon, 03 Feb 2025) EndedAt: 2025-02-03 15:21:48 -0500 (Mon, 03 Feb 2025) EllapsedTime: 5.8 seconds RetCode: 0 Status: OK