Package: GEOsubmission Version: 1.59.0 Command: rm -rf GEOsubmission.buildbin-libdir && mkdir GEOsubmission.buildbin-libdir && E:\biocbuild\bbs-3.21-bioc\R\bin\R.exe CMD INSTALL --build --library=GEOsubmission.buildbin-libdir GEOsubmission_1.59.0.tar.gz StartedAt: 2025-02-10 07:50:30 -0500 (Mon, 10 Feb 2025) EndedAt: 2025-02-10 07:50:38 -0500 (Mon, 10 Feb 2025) EllapsedTime: 7.9 seconds RetCode: 0 Status: OK PackageFile: GEOsubmission_1.59.0.zip PackageFileSize: 101.1 KiB