Package: GEOsubmission Version: 1.59.0 Command: chmod a+r GEOsubmission -R && E:\biocbuild\bbs-3.21-bioc\R\bin\R.exe CMD build --keep-empty-dirs --no-resave-data GEOsubmission StartedAt: 2025-02-09 18:56:58 -0500 (Sun, 09 Feb 2025) EndedAt: 2025-02-09 18:57:20 -0500 (Sun, 09 Feb 2025) EllapsedTime: 21.7 seconds RetCode: 0 Status: OK PackageFile: GEOsubmission_1.59.0.tar.gz PackageFileSize: 79.29 KiB