Package: GEWIST Version: 1.51.0 Command: rm -rf GEWIST.buildbin-libdir && mkdir GEWIST.buildbin-libdir && /Users/biocbuild/BBS/utils/build-universal.sh GEWIST_1.51.0.tar.gz /Library/Frameworks/R.framework/Resources/bin/R GEWIST.buildbin-libdir StartedAt: 2025-02-09 22:16:03 -0500 (Sun, 09 Feb 2025) EndedAt: 2025-02-09 22:16:05 -0500 (Sun, 09 Feb 2025) EllapsedTime: 2.1 seconds RetCode: 0 Status: OK PackageFile: GEWIST_1.51.0.tgz PackageFileSize: 412.4 KiB