Package: GEWIST Version: 1.51.0 Command: /Library/Frameworks/R.framework/Resources/bin/R CMD INSTALL GEWIST StartedAt: 2025-02-04 15:21:19 -0500 (Tue, 04 Feb 2025) EndedAt: 2025-02-04 15:21:20 -0500 (Tue, 04 Feb 2025) EllapsedTime: 1.1 seconds RetCode: 0 Status: OK