Package: GEWIST Version: 1.51.0 Command: /home/biocbuild/R/R/bin/R CMD check --install=check:GEWIST.install-out.txt --library=/home/biocbuild/R/R/site-library --no-vignettes --timings GEWIST_1.51.0.tar.gz StartedAt: 2025-01-28 11:03:13 -0000 (Tue, 28 Jan 2025) EndedAt: 2025-01-28 11:04:17 -0000 (Tue, 28 Jan 2025) EllapsedTime: 64.0 seconds RetCode: 0 Status: OK CheckDir: GEWIST.Rcheck Warnings: 0