Package: GEWIST Version: 1.51.0 Command: /home/biocbuild/R/R/bin/R CMD INSTALL GEWIST StartedAt: 2025-01-29 20:18:47 -0000 (Wed, 29 Jan 2025) EndedAt: 2025-01-29 20:18:50 -0000 (Wed, 29 Jan 2025) EllapsedTime: 2.6 seconds RetCode: 0 Status: OK