Package: GEWIST Version: 1.51.0 Command: /Library/Frameworks/R.framework/Resources/bin/R CMD build --keep-empty-dirs --no-resave-data GEWIST StartedAt: 2025-02-04 16:50:31 -0500 (Tue, 04 Feb 2025) EndedAt: 2025-02-04 16:52:30 -0500 (Tue, 04 Feb 2025) EllapsedTime: 119.2 seconds RetCode: 0 Status: OK PackageFile: GEWIST_1.51.0.tar.gz PackageFileSize: 387.7 KiB