Package: GEWIST Version: 1.51.0 Command: /Library/Frameworks/R.framework/Resources/bin/R CMD check --install=check:GEWIST.install-out.txt --library=/Library/Frameworks/R.framework/Resources/library --no-vignettes --timings GEWIST_1.51.0.tar.gz StartedAt: 2025-02-04 20:47:02 -0500 (Tue, 04 Feb 2025) EndedAt: 2025-02-04 20:47:57 -0500 (Tue, 04 Feb 2025) EllapsedTime: 55.2 seconds RetCode: 0 Status: OK CheckDir: GEWIST.Rcheck Warnings: 0