Package: GEWIST Version: 1.51.0 Command: /Library/Frameworks/R.framework/Resources/bin/R CMD INSTALL GEWIST StartedAt: 2025-02-04 15:32:36 -0500 (Tue, 04 Feb 2025) EndedAt: 2025-02-04 15:32:40 -0500 (Tue, 04 Feb 2025) EllapsedTime: 3.8 seconds RetCode: 0 Status: OK