Package: GEWIST Version: 1.51.0 Command: /home/biocbuild/bbs-3.21-bioc/R/bin/R CMD check --install=check:GEWIST.install-out.txt --library=/home/biocbuild/bbs-3.21-bioc/R/site-library --timings GEWIST_1.51.0.tar.gz StartedAt: 2025-02-04 22:42:48 -0500 (Tue, 04 Feb 2025) EndedAt: 2025-02-04 22:44:56 -0500 (Tue, 04 Feb 2025) EllapsedTime: 127.1 seconds RetCode: 0 Status: OK CheckDir: GEWIST.Rcheck Warnings: 0