Package: GEWIST Version: 1.51.0 Command: rm -rf GEWIST.buildbin-libdir && mkdir GEWIST.buildbin-libdir && E:\biocbuild\bbs-3.21-bioc\R\bin\R.exe CMD INSTALL --build --library=GEWIST.buildbin-libdir GEWIST_1.51.0.tar.gz StartedAt: 2025-02-05 08:02:14 -0500 (Wed, 05 Feb 2025) EndedAt: 2025-02-05 08:02:18 -0500 (Wed, 05 Feb 2025) EllapsedTime: 4.0 seconds RetCode: 0 Status: OK PackageFile: GEWIST_1.51.0.zip PackageFileSize: 293.3 KiB