Package: GEWIST Version: 1.51.0 Command: chmod a+r GEWIST -R && E:\biocbuild\bbs-3.21-bioc\R\bin\R.exe CMD build --keep-empty-dirs --no-resave-data GEWIST StartedAt: 2025-02-04 19:00:28 -0500 (Tue, 04 Feb 2025) EndedAt: 2025-02-04 19:02:57 -0500 (Tue, 04 Feb 2025) EllapsedTime: 149.4 seconds RetCode: 0 Status: OK PackageFile: GEWIST_1.51.0.tar.gz PackageFileSize: 266.4 KiB