Package: GGPA Version: 1.19.0 Command: /Library/Frameworks/R.framework/Resources/bin/R CMD INSTALL GGPA StartedAt: 2025-02-09 15:06:23 -0500 (Sun, 09 Feb 2025) EndedAt: 2025-02-09 15:06:33 -0500 (Sun, 09 Feb 2025) EllapsedTime: 10.3 seconds RetCode: 0 Status: OK