Package: GGPA Version: 1.19.0 Command: /Library/Frameworks/R.framework/Resources/bin/R CMD INSTALL GGPA StartedAt: 2025-02-12 15:09:05 -0500 (Wed, 12 Feb 2025) EndedAt: 2025-02-12 15:09:38 -0500 (Wed, 12 Feb 2025) EllapsedTime: 32.6 seconds RetCode: 0 Status: OK