Package: GGPA Version: 1.19.0 Command: chmod a+r GGPA -R && E:\biocbuild\bbs-3.21-bioc\R\bin\R.exe CMD build --keep-empty-dirs --no-resave-data GGPA StartedAt: 2025-02-09 18:58:40 -0500 (Sun, 09 Feb 2025) EndedAt: 2025-02-09 19:01:00 -0500 (Sun, 09 Feb 2025) EllapsedTime: 140.2 seconds RetCode: 0 Status: OK PackageFile: GGPA_1.19.0.tar.gz PackageFileSize: 4.59 MiB