Package: GGPA Version: 1.19.0 Command: E:\biocbuild\bbs-3.21-bioc\R\bin\R.exe CMD check --no-multiarch --install=check:GGPA.install-out.txt --library=E:\biocbuild\bbs-3.21-bioc\R\library --no-vignettes --timings GGPA_1.19.0.tar.gz StartedAt: 2025-02-13 01:45:05 -0500 (Thu, 13 Feb 2025) EndedAt: 2025-02-13 01:50:38 -0500 (Thu, 13 Feb 2025) EllapsedTime: 333.2 seconds RetCode: 0 Status: OK CheckDir: GGPA.Rcheck Warnings: 0