Package: GGPA Version: 1.19.0 Command: E:\biocbuild\bbs-3.21-bioc\R\bin\R.exe CMD INSTALL GGPA StartedAt: 2025-02-09 15:32:33 -0500 (Sun, 09 Feb 2025) EndedAt: 2025-02-09 15:33:19 -0500 (Sun, 09 Feb 2025) EllapsedTime: 46.5 seconds RetCode: 0 Status: OK