Package: GIGSEA Version: 1.25.0 Command: rm -rf GIGSEA.buildbin-libdir && mkdir GIGSEA.buildbin-libdir && /Users/biocbuild/BBS/utils/build-universal.sh GIGSEA_1.25.0.tar.gz /Library/Frameworks/R.framework/Resources/bin/R GIGSEA.buildbin-libdir StartedAt: 2025-02-03 22:52:05 -0500 (Mon, 03 Feb 2025) EndedAt: 2025-02-03 22:52:08 -0500 (Mon, 03 Feb 2025) EllapsedTime: 3.1 seconds RetCode: 0 Status: OK PackageFile: GIGSEA_1.25.0.tgz PackageFileSize: 1.725 MiB