Package: GIGSEA Version: 1.25.0 Command: /Library/Frameworks/R.framework/Resources/bin/R CMD check --install=check:GIGSEA.install-out.txt --library=/Library/Frameworks/R.framework/Resources/library --no-vignettes --timings GIGSEA_1.25.0.tar.gz StartedAt: 2025-02-03 20:05:22 -0500 (Mon, 03 Feb 2025) EndedAt: 2025-02-03 20:05:54 -0500 (Mon, 03 Feb 2025) EllapsedTime: 31.4 seconds RetCode: 0 Status: OK CheckDir: GIGSEA.Rcheck Warnings: 0