Package: GIGSEA Version: 1.25.0 Command: /home/biocbuild/R/R/bin/R CMD build --keep-empty-dirs --no-resave-data GIGSEA StartedAt: 2025-01-28 23:13:58 -0000 (Tue, 28 Jan 2025) EndedAt: 2025-01-28 23:18:34 -0000 (Tue, 28 Jan 2025) EllapsedTime: 276.1 seconds RetCode: 0 Status: OK PackageFile: GIGSEA_1.25.0.tar.gz PackageFileSize: 1.313 MiB