Package: GIGSEA Version: 1.25.0 Command: /Library/Frameworks/R.framework/Resources/bin/R CMD build --keep-empty-dirs --no-resave-data GIGSEA StartedAt: 2025-02-03 16:56:20 -0500 (Mon, 03 Feb 2025) EndedAt: 2025-02-03 17:00:17 -0500 (Mon, 03 Feb 2025) EllapsedTime: 237.5 seconds RetCode: 0 Status: OK PackageFile: GIGSEA_1.25.0.tar.gz PackageFileSize: 1.326 MiB