Package: GIGSEA Version: 1.25.0 Command: /Library/Frameworks/R.framework/Resources/bin/R CMD check --install=check:GIGSEA.install-out.txt --library=/Library/Frameworks/R.framework/Resources/library --no-vignettes --timings GIGSEA_1.25.0.tar.gz StartedAt: 2025-02-05 20:49:11 -0500 (Wed, 05 Feb 2025) EndedAt: 2025-02-05 20:50:33 -0500 (Wed, 05 Feb 2025) EllapsedTime: 82.1 seconds RetCode: 0 Status: OK CheckDir: GIGSEA.Rcheck Warnings: 0