Package: GIGSEA Version: 1.25.0 Command: /home/biocbuild/bbs-3.21-bioc/R/bin/R CMD check --install=check:GIGSEA.install-out.txt --library=/home/biocbuild/bbs-3.21-bioc/R/site-library --timings GIGSEA_1.25.0.tar.gz StartedAt: 2025-02-03 22:55:10 -0500 (Mon, 03 Feb 2025) EndedAt: 2025-02-03 22:59:47 -0500 (Mon, 03 Feb 2025) EllapsedTime: 277.4 seconds RetCode: 0 Status: OK CheckDir: GIGSEA.Rcheck Warnings: 0