Package: GIGSEA Version: 1.25.0 Command: rm -rf GIGSEA.buildbin-libdir && mkdir GIGSEA.buildbin-libdir && E:\biocbuild\bbs-3.21-bioc\R\bin\R.exe CMD INSTALL --build --library=GIGSEA.buildbin-libdir GIGSEA_1.25.0.tar.gz StartedAt: 2025-02-04 08:04:52 -0500 (Tue, 04 Feb 2025) EndedAt: 2025-02-04 08:05:11 -0500 (Tue, 04 Feb 2025) EllapsedTime: 19.0 seconds RetCode: 0 Status: OK PackageFile: GIGSEA_1.25.0.zip PackageFileSize: 1.73 MiB