Package: GIGSEA Version: 1.25.0 Command: chmod a+r GIGSEA -R && E:\biocbuild\bbs-3.21-bioc\R\bin\R.exe CMD build --keep-empty-dirs --no-resave-data GIGSEA StartedAt: 2025-02-03 19:11:44 -0500 (Mon, 03 Feb 2025) EndedAt: 2025-02-03 19:16:12 -0500 (Mon, 03 Feb 2025) EllapsedTime: 268.0 seconds RetCode: 0 Status: OK PackageFile: GIGSEA_1.25.0.tar.gz PackageFileSize: 1.327 MiB