Package: GIGSEA Version: 1.25.0 Command: E:\biocbuild\bbs-3.21-bioc\R\bin\R.exe CMD check --no-multiarch --install=check:GIGSEA.install-out.txt --library=E:\biocbuild\bbs-3.21-bioc\R\library --no-vignettes --timings GIGSEA_1.25.0.tar.gz StartedAt: 2025-02-04 02:04:12 -0500 (Tue, 04 Feb 2025) EndedAt: 2025-02-04 02:05:45 -0500 (Tue, 04 Feb 2025) EllapsedTime: 92.8 seconds RetCode: 0 Status: OK CheckDir: GIGSEA.Rcheck Warnings: 0