Package: GLAD Version: 2.71.0 Command: /Library/Frameworks/R.framework/Resources/bin/R CMD INSTALL GLAD StartedAt: 2025-02-09 15:01:33 -0500 (Sun, 09 Feb 2025) EndedAt: 2025-02-09 15:01:40 -0500 (Sun, 09 Feb 2025) EllapsedTime: 6.5 seconds RetCode: 1 Status: ERROR