Package: GLAD Version: 2.71.0 Command: /Library/Frameworks/R.framework/Resources/bin/R CMD INSTALL GLAD StartedAt: 2025-02-09 15:04:17 -0500 (Sun, 09 Feb 2025) EndedAt: 2025-02-09 15:05:04 -0500 (Sun, 09 Feb 2025) EllapsedTime: 47.0 seconds RetCode: 1 Status: ERROR