Package: GLAD Version: 2.71.0 Command: /home/biocbuild/bbs-3.21-bioc/R/bin/R CMD build --keep-empty-dirs --no-resave-data GLAD StartedAt: 2025-02-09 17:26:34 -0500 (Sun, 09 Feb 2025) EndedAt: 2025-02-09 17:26:39 -0500 (Sun, 09 Feb 2025) EllapsedTime: 5.0 seconds RetCode: 1 Status: ERROR PackageFile: None PackageFileSize: NA