Package: GLAD Version: 2.71.0 Command: rm -rf GLAD.buildbin-libdir && mkdir GLAD.buildbin-libdir && E:\biocbuild\bbs-3.21-bioc\R\bin\R.exe CMD INSTALL --build --library=GLAD.buildbin-libdir GLAD_2.71.0.tar.gz StartedAt: 2025-01-22 07:43:16 -0500 (Wed, 22 Jan 2025) EndedAt: 2025-01-22 07:44:00 -0500 (Wed, 22 Jan 2025) EllapsedTime: 44.2 seconds RetCode: 0 Status: OK PackageFile: GLAD_2.71.0.zip PackageFileSize: 1.64 MiB