Package: GLAD Version: 2.71.0 Command: chmod a+r GLAD -R && E:\biocbuild\bbs-3.21-bioc\R\bin\R.exe CMD build --keep-empty-dirs --no-resave-data GLAD StartedAt: 2025-02-09 18:59:57 -0500 (Sun, 09 Feb 2025) EndedAt: 2025-02-09 19:00:11 -0500 (Sun, 09 Feb 2025) EllapsedTime: 14.1 seconds RetCode: 1 Status: ERROR PackageFile: None PackageFileSize: NA